BEGIN:VCALENDAR
VERSION:2.0
PRODID:-//ChamberMaster//Event Calendar 2.0//EN
METHOD:PUBLISH
X-PUBLISHED-TTL:P3D
REFRESH-INTERVAL:P3D
CALSCALE:GREGORIAN
BEGIN:VEVENT
DTSTART:20190317T000000Z
DTEND:20190317T040000Z
X-MICROSOFT-CDO-ALLDAYEVENT:FALSE
SUMMARY:ST. PATRICK'S DAY DINNER
DESCRIPTION:SAVE THE DATE for The Belles of St. Mary's scrumptious succulent St. Patrick's Corned Beef and Cabbage Dinner
X-ALT-DESC;FMTTYPE=text/html:SAVE THE DATE for The Belles of St. Mary&rsquo\;s scrumptious succulent St. Patrick&rsquo\;s Corned Beef and Cabbage Dinner
LOCATION:St. Mary Immaculate Church Hall 801 North Main Lakeport\, CA
UID:e.2411.6520
SEQUENCE:3
DTSTAMP:20260426T030555Z
URL:http://lakecochamber.chambermaster.com/events/details/st-patrick-s-day-dinner-6520
END:VEVENT

END:VCALENDAR
