BEGIN:VCALENDAR
VERSION:2.0
PRODID:-//ChamberMaster//Event Calendar 2.0//EN
METHOD:PUBLISH
X-PUBLISHED-TTL:P3D
REFRESH-INTERVAL:P3D
CALSCALE:GREGORIAN
BEGIN:VEVENT
DTSTART:20190421T200000Z
DTEND:20190422T000000Z
X-MICROSOFT-CDO-ALLDAYEVENT:FALSE
SUMMARY:RESTORE: Writing Workshop
DESCRIPTION:Come join published author\, writer and instructor\, Clive Matson for an afternoon of expressing yourself on paper in a safe environment. Suitable for all ages 12 and up and all levels of expertise from newbies to published authors. Work on personal passion projects or write poetry\, prose or short stories from prompts and hear other writers' pieces. Your work will be considered for MAC's end-of-the-program chapbook\, featuring works from select participants.
X-ALT-DESC;FMTTYPE=text/html:Come join published author\, writer and instructor\, Clive Matson for an afternoon of expressing yourself on paper in a safe environment. Suitable for all ages 12 and up and all levels of expertise from newbies to published authors. Work on personal passion projects or write poetry\, prose or short stories from prompts and hear other writers&rsquo\; pieces. Your work will be considered for MAC&rsquo\;s end-of-the-program chapbook\, featuring works from select participants.
LOCATION:Middletown Art Center\, 21456 State Hwy. @ 29\, Middletown CA\, 95461
UID:e.2411.6879
SEQUENCE:3
DTSTAMP:20260425T041201Z
URL:http://lakecochamber.chambermaster.com/events/details/restore-writing-workshop-04-21-2019-6879
END:VEVENT

END:VCALENDAR
