BEGIN:VCALENDAR
VERSION:2.0
PRODID:-//ChamberMaster//Event Calendar 2.0//EN
METHOD:PUBLISH
X-PUBLISHED-TTL:P3D
REFRESH-INTERVAL:P3D
CALSCALE:GREGORIAN
BEGIN:VEVENT
DTSTART:20190302T023000Z
DTEND:20190302T050000Z
X-MICROSOFT-CDO-ALLDAYEVENT:FALSE
SUMMARY:Open Mic at MAC
DESCRIPTION:Join us at MAC for an evening of sounds\, song and musical comraderie. All ages 12 and up welcome. Bring instruments and voice if you'd like to participate or just hang and sway to the music.
X-ALT-DESC;FMTTYPE=text/html:Join us at MAC for an evening of sounds\, song and musical comraderie. All ages 12 and up welcome. Bring instruments and voice if you&#39\;d like to participate or just hang and sway to the music.
LOCATION:Middletown Art Center\, 21456 State Hwy. @ 29\, Middletown CA\, 95461
UID:e.2411.6517
SEQUENCE:3
DTSTAMP:20260425T152523Z
URL:http://lakecochamber.chambermaster.com/events/details/open-mic-at-mac-6517
END:VEVENT

END:VCALENDAR
