BEGIN:VCALENDAR
VERSION:2.0
PRODID:-//ChamberMaster//Event Calendar 2.0//EN
METHOD:PUBLISH
X-PUBLISHED-TTL:P3D
REFRESH-INTERVAL:P3D
CALSCALE:GREGORIAN
BEGIN:VEVENT
DTSTART:20190825T200000Z
DTEND:20190826T000000Z
X-MICROSOFT-CDO-ALLDAYEVENT:FALSE
SUMMARY:Mixed Media Workshop
DESCRIPTION:Join artists Lisa Kaplan and Anne Ducrot for an afternoon of mixed media art creation. Register at middletownartcenter.org/locus.  This  mixed media adventure will include short playful paintings and individual works on canvas.  We will also piece these all together to create a greater whole and expression of our collective experience of the here and now.
X-ALT-DESC;FMTTYPE=text/html:Join artists Lisa Kaplan and Anne Ducrot for an afternoon of mixed media art creation. Register at middletownartcenter.org/locus.&nbsp\; This&nbsp\; mixed media adventure will include short playful paintings and individual works on canvas.&nbsp\; We will also piece these all together to create a greater whole and expression of our collective experience of the here and now.
LOCATION:Middletown Art Center 21456 State Hwy. 175 @ 29\, Middletown CA\, 95461
UID:e.2411.8324
SEQUENCE:3
DTSTAMP:20260423T224717Z
URL:http://lakecochamber.chambermaster.com/events/details/mixed-media-workshop-8324
END:VEVENT

END:VCALENDAR
