BEGIN:VCALENDAR
VERSION:2.0
PRODID:-//ChamberMaster//Event Calendar 2.0//EN
METHOD:PUBLISH
X-PUBLISHED-TTL:P3D
REFRESH-INTERVAL:P3D
CALSCALE:GREGORIAN
BEGIN:VEVENT
DTSTART:20190226T200000Z
DTEND:20190226T210000Z
X-MICROSOFT-CDO-ALLDAYEVENT:FALSE
SUMMARY:Master Networks Launch
DESCRIPTION:We are LAUNCHING the first Master Networks chapter in Lake County! Member sign ups are happening now\; we are scheduling more sessions for the growing interest! Our core group is growing and - by popular demand - we are scheduling more introductory sessions. Many have asked for sessions on other days and/or times to better meet individual schedules. Here is the schedule for the next couple of weeks: These sessions are all the same\; choose a time that works best for your schedule. And bring friends and colleagues! Tuesday\, February 19\; 12:00 noon Tuesday\, February 26\; 12:00 noon Wednesday\, February 27\; 4:00 p.m. Thursday\, February 28\; 4:00 p.m. All meetings will be at 290 North Main Street\, Lakeport. It is at the corner of Third and North Main - the building with the mural painted on the side. Please let us know which meeting you plan to attend. Master Networks is a membership based organization that helps business leaders\, entrepreneurs and intrapreneurs grow their business.
X-ALT-DESC;FMTTYPE=text/html:We are LAUNCHING the first Master Networks chapter in Lake County! Member sign ups are happening now\; we are scheduling more sessions for the growing interest! Our core group is growing and - by popular demand - we are scheduling more introductory sessions. Many have asked for sessions on other days and/or times to better meet individual schedules. Here is the schedule for the next couple of weeks: These sessions are all the same\; choose a time that works best for your schedule. And bring friends and colleagues! Tuesday\, February 19\; 12:00 noon Tuesday\, February 26\; 12:00 noon Wednesday\, February 27\; 4:00 p.m. Thursday\, February 28\; 4:00 p.m. All meetings will be at 290 North Main Street\, Lakeport. It is at the corner of Third and North Main - the building with the mural painted on the side. Please let us know which meeting you plan to attend. Master Networks is a membership based organization that helps business leaders\, entrepreneurs and intrapreneurs grow their business.
LOCATION:290 N. Main St\, Lakeport\, Ca 95453
UID:e.2411.6514
SEQUENCE:3
DTSTAMP:20260425T040223Z
URL:http://lakecochamber.chambermaster.com/events/details/master-networks-launch-6514
END:VEVENT

END:VCALENDAR
