BEGIN:VCALENDAR
VERSION:2.0
PRODID:-//ChamberMaster//Event Calendar 2.0//EN
METHOD:PUBLISH
X-PUBLISHED-TTL:P3D
REFRESH-INTERVAL:P3D
CALSCALE:GREGORIAN
BEGIN:VEVENT
DTSTART:20190420T200000Z
DTEND:20190421T000000Z
X-MICROSOFT-CDO-ALLDAYEVENT:FALSE
SUMMARY:MAC: Open Studio
DESCRIPTION:Join us at Middletown Art Center to take advantage of our bright studio space and meet up with kindred artist spirits. Work on your own ongoing or new projects. Bring your own materials. Suitable for all ages 12 and up.
X-ALT-DESC;FMTTYPE=text/html:Join us at Middletown Art Center to take advantage of our bright studio space and meet up with kindred artist spirits. Work on your own ongoing or new projects. Bring your own materials. Suitable for all ages 12 and up.
LOCATION:Middletown Art Center\, 21456 State Hwy. @ 29\, Middletown CA\, 95461 707.809.8118
UID:e.2411.6894
SEQUENCE:3
DTSTAMP:20260426T014616Z
URL:http://lakecochamber.chambermaster.com/events/details/mac-open-studio-6894
END:VEVENT

END:VCALENDAR
