BEGIN:VCALENDAR
VERSION:2.0
PRODID:-//ChamberMaster//Event Calendar 2.0//EN
METHOD:PUBLISH
X-PUBLISHED-TTL:P3D
REFRESH-INTERVAL:P3D
CALSCALE:GREGORIAN
BEGIN:VEVENT
DTSTART:20191118T180000Z
DTEND:20191119T000000Z
X-MICROSOFT-CDO-ALLDAYEVENT:FALSE
SUMMARY:Literacy Program Tutor Training
DESCRIPTION:VOLUNTEER TO BECOME A LITERACY TUTOR FOR THE LAKE COUNTY ADULT LITERACY PROGRAM HELP SOMEONE TO A BETTER FUTURE!
X-ALT-DESC;FMTTYPE=text/html:VOLUNTEER TO BECOME A LITERACY TUTOR FOR THE LAKE COUNTY ADULT LITERACY PROGRAM HELP SOMEONE TO A BETTER FUTURE!
LOCATION:Lakeport Library 1425 North High Street Lakeport
UID:e.2411.8569
SEQUENCE:3
DTSTAMP:20260424T222713Z
URL:http://lakecochamber.chambermaster.com/events/details/literacy-program-tutor-training-8569
END:VEVENT

END:VCALENDAR
