BEGIN:VCALENDAR
VERSION:2.0
PRODID:-//ChamberMaster//Event Calendar 2.0//EN
METHOD:PUBLISH
X-PUBLISHED-TTL:P3D
REFRESH-INTERVAL:P3D
CALSCALE:GREGORIAN
BEGIN:VEVENT
DTSTART:20190323T040000Z
DTEND:20190323T065500Z
X-MICROSOFT-CDO-ALLDAYEVENT:FALSE
SUMMARY:Freshmakers
DESCRIPTION:THE FRESHMAKERS Friday & Saturday March 22nd & 23rd 9:00 pm 1:30 am The Freshmakers are a high-energy\, performance-focused party band from the Bay Area. While focusing on a setlist that is chock full of songs from the last 5 years\, they also take on the most nostalgic tunes from the 80's\, 90's\, and 2000's. Their show is an audio and visual event aimed at getting you out of your seat and make memories to your favorite songs\, old and new! our repertoire.'
X-ALT-DESC;FMTTYPE=text/html:THE FRESHMAKERS Friday &amp\; Saturday March 22nd &amp\; 23rd 9:00 pm&ndash\;1:30 am The Freshmakers&nbsp\;are a high-energy\, performance-focused party band from the Bay Area. While focusing on a setlist that is chock full of songs from the last 5 years\, they also take on the most nostalgic tunes from the 80&rsquo\;s\, 90&rsquo\;s\, and 2000&rsquo\;s. Their show is an audio and visual event aimed at getting you out of your seat and make memories to your favorite songs\, old and new!&nbsp\;our repertoire.&rsquo\;
LOCATION:Twin Pine Casino & Hotel 22223 Hwy 29 Middletown\, CA. 95461
UID:e.2411.6493
SEQUENCE:3
DTSTAMP:20260425T235552Z
URL:http://lakecochamber.chambermaster.com/events/details/freshmakers-6493
END:VEVENT

END:VCALENDAR
