BEGIN:VCALENDAR
VERSION:2.0
PRODID:-//ChamberMaster//Event Calendar 2.0//EN
METHOD:PUBLISH
X-PUBLISHED-TTL:P3D
REFRESH-INTERVAL:P3D
CALSCALE:GREGORIAN
BEGIN:VEVENT
DTSTART:20190203T200000Z
DTEND:20190203T220000Z
X-MICROSOFT-CDO-ALLDAYEVENT:FALSE
SUMMARY:Fiddlers' Jam
DESCRIPTION:12 noon to 2pm at the Barn at the Ely. Food and beverages will be available for sale. This month's Raffle Basket is a Hearts and Flowers theme complete with fresh flowers from Flowers by Traci and a Gift Certificate from Woody's\, both of whom are located in Kelseyville.
X-ALT-DESC;FMTTYPE=text/html:12 noon to 2pm at the Barn at the Ely. Food and beverages will be available for sale. This month&rsquo\;s Raffle Basket is a Hearts and Flowers theme complete with fresh flowers from Flowers by Traci and a Gift Certificate from Woody&rsquo\;s\, both of whom are located in Kelseyville.
LOCATION:9921 Soda Bay Road\, between Kit's Corner\, Kelseyville and Lower Lake
UID:e.2411.6459
SEQUENCE:3
DTSTAMP:20260426T030944Z
URL:http://lakecochamber.chambermaster.com/events/details/fiddlers-jam-6459
END:VEVENT

END:VCALENDAR
