BEGIN:VCALENDAR
VERSION:2.0
PRODID:-//ChamberMaster//Event Calendar 2.0//EN
METHOD:PUBLISH
X-PUBLISHED-TTL:P3D
REFRESH-INTERVAL:P3D
CALSCALE:GREGORIAN
BEGIN:VEVENT
DTSTART:20190630T190000Z
DTEND:20190630T210000Z
X-MICROSOFT-CDO-ALLDAYEVENT:FALSE
SUMMARY:BBQ Bash
DESCRIPTION:Free food & games Family friendly event Jumpy house\, pie eating contest Silent auction
X-ALT-DESC;FMTTYPE=text/html:Free food &amp\; games Family friendly event Jumpy house\, pie eating contest Silent auction
LOCATION:Lakeport Christian Center 455 S Forbes Street Lakeport\, CA
UID:e.2411.6812
SEQUENCE:3
DTSTAMP:20260423T180643Z
URL:http://lakecochamber.chambermaster.com/events/details/bbq-bash-6812
END:VEVENT

END:VCALENDAR
